BEGIN:VCALENDAR
VERSION:2.0
PRODID:iCalendar-Evo
X-WR-TIMEZONE:US/Eastern
BEGIN:VEVENT
DTSTAMP:20260423THI1742Z
URL:https://www.watertown-ny.gov/events/39374/
DTSTART;TZID=US/Eastern:20251212T180000
SUMMARY:Christmas Parade and Tree Lighting Ceremony
DESCRIPTION: 
LOCATION:City Hall  at 245 Washington Street, Watertown, New York 13601
GEO:43.97264790000001;-75.90994029999999
UID:c6365f66-7457-4324-90b4-752314ab6bf320251212T230000@www.watertown-ny.gov
END:VEVENT
END:VCALENDAR